BEGIN:VCALENDAR
VERSION:2.0
PRODID:-//Craftspace - ECPv6.15.20//NONSGML v1.0//EN
CALSCALE:GREGORIAN
METHOD:PUBLISH
X-ORIGINAL-URL:https://craftspace.co.uk
X-WR-CALDESC:Events for Craftspace
REFRESH-INTERVAL;VALUE=DURATION:PT1H
X-Robots-Tag:noindex
X-PUBLISHED-TTL:PT1H
BEGIN:VTIMEZONE
TZID:Europe/London
BEGIN:DAYLIGHT
TZOFFSETFROM:+0000
TZOFFSETTO:+0100
TZNAME:BST
DTSTART:20220327T010000
END:DAYLIGHT
BEGIN:STANDARD
TZOFFSETFROM:+0100
TZOFFSETTO:+0000
TZNAME:GMT
DTSTART:20221030T010000
END:STANDARD
BEGIN:DAYLIGHT
TZOFFSETFROM:+0000
TZOFFSETTO:+0100
TZNAME:BST
DTSTART:20230326T010000
END:DAYLIGHT
BEGIN:STANDARD
TZOFFSETFROM:+0100
TZOFFSETTO:+0000
TZNAME:GMT
DTSTART:20231029T010000
END:STANDARD
BEGIN:DAYLIGHT
TZOFFSETFROM:+0000
TZOFFSETTO:+0100
TZNAME:BST
DTSTART:20240331T010000
END:DAYLIGHT
BEGIN:STANDARD
TZOFFSETFROM:+0100
TZOFFSETTO:+0000
TZNAME:GMT
DTSTART:20241027T010000
END:STANDARD
END:VTIMEZONE
BEGIN:VEVENT
DTSTART;TZID=Europe/London:20230520T130000
DTEND;TZID=Europe/London:20230520T160000
DTSTAMP:20260425T175024
CREATED:20230503T095847Z
LAST-MODIFIED:20230516T140038Z
UID:30992-1684587600-1684598400@craftspace.co.uk
SUMMARY:Birmingham Pride 2023 Eco Drag Challenge
DESCRIPTION:Practical costume making workshop\nHow can the lgbtqia+ community use our contemporary & historic queer crafting skills to respond to the climate emergency? \nSee-Maa-Butt and Maxx Gentleman will share fun\, simple but effective crafting techniques including using plastic bags to make decorative flowers. In this session\, everyone will make headwear or an accessory to wear to Pride. All are invited to join our walking group at the Birmingham Pride Parade on Saturday 27th May to promote ‘planet-kind’ drag that will help make a difference to climate change. \nAll welcome\, no creative experience required\, materials\, tools and refreshments provided. You can bring along a garment or a prop to customise if you like. \nSunday 21 May 1pm – 4pm   \nVenue: The Drawing Room at the Old Print Works\, Balsall Heath \nThis event is part of Drag Declares Emergency project and #EcoDragChallenge developed by Lady Kitt and commissioned by Craftspace. \nImage: Art Matters Now\, Lady Kitt. \nImage description: Colour photo\, exterior. Kitt\, a white human coming out of an industrial sized bin with arms outstretched. They are wearing a headdress\, beard and garlands of flowers handmade from recycled black and orange plastic bags. Behind their head is another bin with a vinyl sign which reads mixed recycling and pictures of items that can be put in the bin.
URL:https://craftspace.co.uk/event/birmingham-pride-2023-eco-drag-challenge/
LOCATION:The Drawing Room at the Old Print Works\, 498-506 Moseley Rd\, Balsall Heath\, Birmingham\, B12 9AH
CATEGORIES:Drag Declares Emergency
ATTACH;FMTTYPE=image/jpeg:https://craftspace.co.uk/wp-content/uploads/2022/09/Lady-Kitt-Drag-Declares-Emergency-Photo-Art-Matters-Now-Lady-Kitt.jpg
END:VEVENT
BEGIN:VEVENT
DTSTART;TZID=Europe/London:20230520T100000
DTEND;TZID=Europe/London:20230520T130000
DTSTAMP:20260425T175024
CREATED:20230516T120406Z
LAST-MODIFIED:20230516T120406Z
UID:31036-1684576800-1684587600@craftspace.co.uk
SUMMARY:Birmingham Pride 2023 Eco Drag Challenge
DESCRIPTION:Practical costume making workshop\nHow can the lgbtqia+ community use our contemporary & historic queer crafting skills to respond to the climate emergency? \nExperts from Birmingham City University’s School of Fashion and Textiles will support you to make costumes\, headwear and accessories using recycled materials. In this session\, participants from a previous workshop will continue to work on their costumes. New participants will work on headwear or an accessory to wear to Pride Parade. All are invited to join our walking group at the Birmingham Pride Parade on Saturday 27th May to promote ‘planet-kind’ drag that will help make a difference to climate change. \nAll welcome\, no creative experience required\, materials\, tools and refreshments provided. You can bring along a garment or a prop to customise if you like. \nSaturday 20th May\, 10am – 1pm. \nVenue: Birmingham City University\, Dept of Fashion & Textiles\, The Parkside Building. \nThis event is part of Drag Declares Emergency project and #EcoDragChallenge developed by Lady Kitt and commissioned by Craftspace. \nImage: Art Matters Now\, Lady Kitt. \nImage description: Colour photo\, exterior. Kitt\, a white human coming out of an industrial sized bin with arms outstretched. They are wearing a headdress\, beard and garlands of flowers handmade from recycled black and orange plastic bags. Behind their head is another bin with a vinyl sign which reads mixed recycling and pictures of items that can be put in the bin.
URL:https://craftspace.co.uk/event/birmingham-pride-2023-eco-drag-challenge-2/
LOCATION:Birmingham City University\, 5 Cardigan Road\, Birmingham\, B4 2BD
CATEGORIES:Drag Declares Emergency
ATTACH;FMTTYPE=image/jpeg:https://craftspace.co.uk/wp-content/uploads/2022/09/Lady-Kitt-Drag-Declares-Emergency-Photo-Art-Matters-Now-Lady-Kitt.jpg
END:VEVENT
END:VCALENDAR